BEGIN:VCALENDAR
VERSION:2.0
PRODID:-//Tukios.com/
BEGIN:VEVENT
UID:1ac5d584-38b2-462d-99e4-41ffa0e7d3ec@www.diehl-whittaker.com
DTSTAMP:20260423T010118Z
DTSTART:20260504T180000Z
DTEND:20260504T183000Z
SUMMARY:Interment
DESCRIPTION:
URL:https://www.diehl-whittaker.com/obituaries/william-bevins
LOCATION:Green Lawn Cemetery 100 Greenlawn Avenue  Columbus OH 43223
GEO:39.9394094;-83.00068
END:VEVENT
END:VCALENDAR