BEGIN:VCALENDAR
VERSION:2.0
PRODID:-//Tukios.com/
BEGIN:VEVENT
UID:555b7272-203d-45a8-9434-b74ae4a68ea7@www.diehl-whittaker.com
DTSTAMP:20260423T005612Z
DTSTART:20260504T140000Z
DTEND:20260504T160000Z
SUMMARY:Visitation
DESCRIPTION:
URL:https://www.diehl-whittaker.com/obituaries/william-bevins
LOCATION:Diehl-Whittaker Funeral Service 1370 E Main St  Columbus OH 
	43205
GEO:39.9580696;-82.9628679
END:VEVENT
END:VCALENDAR