BEGIN:VCALENDAR
VERSION:2.0
PRODID:-//Tukios.com/
BEGIN:VEVENT
UID:4e1f7fab-73d6-4299-94ea-83fdde0efc26@www.diehl-whittaker.com
DTSTAMP:20260423T005612Z
DTSTART:20260504T160000Z
DTEND:20260504T170000Z
SUMMARY:Funeral Service
DESCRIPTION:
URL:https://www.diehl-whittaker.com/obituaries/william-bevins
LOCATION:Diehl-Whittaker Funeral Service 1370 E Main St  Columbus OH 
	43205
GEO:39.9580696;-82.9628679
END:VEVENT
END:VCALENDAR