BEGIN:VCALENDAR
VERSION:2.0
PRODID:-//Tukios.com/
BEGIN:VEVENT
UID:e5cf5f45-31ae-413e-a1bb-4d9220143348@www.diehl-whittaker.com
DTSTAMP:20260421T174827Z
DTSTART:20260501T170000Z
DTEND:20260501T180000Z
SUMMARY:Interment
DESCRIPTION:
URL:https://www.diehl-whittaker.com/obituaries/linda-elliot
LOCATION:Forest Lawn Memorial Gardens 5600 East Broad Street  Columbus OH 
	43213
GEO:39.9819446;-82.8460982
END:VEVENT
END:VCALENDAR