BEGIN:VCALENDAR
VERSION:2.0
PRODID:-//Tukios.com/
BEGIN:VEVENT
UID:d8acfe3f-ba65-48ae-9ca0-bdd271b854be@www.diehl-whittaker.com
DTSTAMP:20260421T174826Z
DTSTART:20260501T140000Z
DTEND:20260501T160000Z
SUMMARY:Visitation
DESCRIPTION:
URL:https://www.diehl-whittaker.com/obituaries/linda-elliot
LOCATION:Diehl-Whittaker Funeral Service 1370 E Main St  Columbus OH 
	43205
GEO:39.9580696;-82.9628679
END:VEVENT
END:VCALENDAR