BEGIN:VCALENDAR
VERSION:2.0
PRODID:-//Tukios.com/
BEGIN:VEVENT
UID:8b140535-edee-48b2-aad1-9069cca45355@www.diehl-whittaker.com
DTSTAMP:20260421T174528Z
DTSTART:20260501T160000Z
DTEND:20260501T170000Z
SUMMARY:Funeral Service
DESCRIPTION:
URL:https://www.diehl-whittaker.com/obituaries/linda-elliot
LOCATION:Diehl-Whittaker Funeral Service 1370 E Main St  Columbus OH 
	43205
GEO:39.9580696;-82.9628679
END:VEVENT
END:VCALENDAR