BEGIN:VCALENDAR
VERSION:2.0
PRODID:-//Tukios.com/
BEGIN:VEVENT
UID:01e6f8ad-9526-4603-9768-42885b5fa14c@www.diehl-whittaker.com
DTSTAMP:20260420T195835Z
DTSTART:20260427T170000Z
DTEND:20260427T173000Z
SUMMARY:Interment
DESCRIPTION:
URL:https://www.diehl-whittaker.com/obituaries/dorothy-tanner
LOCATION:Eastlawn Cemetery 1340 Woodland Avenue  Columbus OH 43219
GEO:39.993075;-82.953687
END:VEVENT
END:VCALENDAR