BEGIN:VCALENDAR
VERSION:2.0
PRODID:-//Tukios.com/
BEGIN:VEVENT
UID:72faa46a-11a1-4871-a276-cdaad414b338@www.diehl-whittaker.com
DTSTAMP:20260420T195953Z
DTSTART:20260427T140000Z
DTEND:20260427T150000Z
SUMMARY:Visitation
DESCRIPTION:
URL:https://www.diehl-whittaker.com/obituaries/dorothy-tanner
LOCATION:Trinity Baptist Church 461 Saint Clair Avenue  Columbus OH 43203
GEO:39.9740945;-82.9809058
END:VEVENT
END:VCALENDAR