BEGIN:VCALENDAR
VERSION:2.0
PRODID:-//Tukios.com/
BEGIN:VEVENT
UID:45ff5a46-256b-4e8b-ac1b-d408b642b6ed@www.diehl-whittaker.com
DTSTAMP:20260420T195815Z
DTSTART:20260427T150000Z
DTEND:20260427T160000Z
SUMMARY:Funeral Service
DESCRIPTION:
URL:https://www.diehl-whittaker.com/obituaries/dorothy-tanner
LOCATION:Trinity Baptist Church 461 Saint Clair Avenue  Columbus OH 43203
GEO:39.9740945;-82.9809058
END:VEVENT
END:VCALENDAR