BEGIN:VCALENDAR
VERSION:2.0
PRODID:-//Tukios.com/
BEGIN:VEVENT
UID:c559bdb7-95ba-47a5-9a3d-daf4acc94907@www.diehl-whittaker.com
DTSTAMP:20260423T005801Z
DTSTART:20260506T170000Z
DTEND:20260506T173000Z
SUMMARY:Interment
DESCRIPTION:
URL:https://www.diehl-whittaker.com/obituaries/dorothy-mack
LOCATION:Evergreen Burial Park 1401 Woodland Avenue  Columbus OH 43219
GEO:39.9965451;-82.9562782
END:VEVENT
END:VCALENDAR