BEGIN:VCALENDAR
VERSION:2.0
PRODID:-//Tukios.com/
BEGIN:VEVENT
UID:dac63e97-db7c-43e2-94e2-3078d82b88f3@www.diehl-whittaker.com
DTSTAMP:20260423T005903Z
DTSTART:20260506T140000Z
DTEND:20260506T150000Z
SUMMARY:Visitation
DESCRIPTION:
URL:https://www.diehl-whittaker.com/obituaries/dorothy-mack
LOCATION:Diehl-Whittaker Funeral Service 1370 E Main St  Columbus OH 
	43205
GEO:39.9580696;-82.9628679
END:VEVENT
END:VCALENDAR