BEGIN:VCALENDAR
VERSION:2.0
PRODID:-//Tukios.com/
BEGIN:VEVENT
UID:f10fcefd-7d7d-42fa-9bf2-1fad462c7fd7@www.diehl-whittaker.com
DTSTAMP:20260423T005801Z
DTSTART:20260506T150000Z
DTEND:20260506T160000Z
SUMMARY:Funeral Service
DESCRIPTION:
URL:https://www.diehl-whittaker.com/obituaries/dorothy-mack
LOCATION:Diehl-Whittaker Funeral Service 1370 E Main St  Columbus OH 
	43205
GEO:39.9580696;-82.9628679
END:VEVENT
END:VCALENDAR